BEGIN:VCALENDAR
VERSION:2.0
PRODID:-//ThunderWing Brewing - ECPv6.15.20//NONSGML v1.0//EN
CALSCALE:GREGORIAN
METHOD:PUBLISH
X-WR-CALNAME:ThunderWing Brewing
X-ORIGINAL-URL:https://thunderwingbrewing.com
X-WR-CALDESC:Events for ThunderWing Brewing
REFRESH-INTERVAL;VALUE=DURATION:PT1H
X-Robots-Tag:noindex
X-PUBLISHED-TTL:PT1H
BEGIN:VTIMEZONE
TZID:America/New_York
BEGIN:DAYLIGHT
TZOFFSETFROM:-0500
TZOFFSETTO:-0400
TZNAME:EDT
DTSTART:20240310T070000
END:DAYLIGHT
BEGIN:STANDARD
TZOFFSETFROM:-0400
TZOFFSETTO:-0500
TZNAME:EST
DTSTART:20241103T060000
END:STANDARD
BEGIN:DAYLIGHT
TZOFFSETFROM:-0500
TZOFFSETTO:-0400
TZNAME:EDT
DTSTART:20250309T070000
END:DAYLIGHT
BEGIN:STANDARD
TZOFFSETFROM:-0400
TZOFFSETTO:-0500
TZNAME:EST
DTSTART:20251102T060000
END:STANDARD
BEGIN:DAYLIGHT
TZOFFSETFROM:-0500
TZOFFSETTO:-0400
TZNAME:EDT
DTSTART:20260308T070000
END:DAYLIGHT
BEGIN:STANDARD
TZOFFSETFROM:-0400
TZOFFSETTO:-0500
TZNAME:EST
DTSTART:20261101T060000
END:STANDARD
END:VTIMEZONE
BEGIN:VEVENT
DTSTART;TZID=America/New_York:20250923T170000
DTEND;TZID=America/New_York:20250923T200000
DTSTAMP:20260423T064916
CREATED:20250918T185814Z
LAST-MODIFIED:20250918T185814Z
UID:2196-1758646800-1758657600@thunderwingbrewing.com
SUMMARY:Food Truck: Tortilla Street Food
DESCRIPTION:Tortilla Street Food will be joining us at the taproom on Tuesday\, 9/23\, from 5-8pm as we’re open in support of Ohio Pint Day. \nCome grab a glass with your favorite beer\, chow down on some a delicious burrito bowl\, and hang out in celebration of your favorite craft: beer! \nFollow this link to check out the menu.
URL:https://thunderwingbrewing.com/event/food-truck-tortilla-street-food-11/
LOCATION:Thunderwing Brewing\, 2419 Scioto Harper Drive\, Columbus\, OH\, 43204\, United States
CATEGORIES:Food Truck Schedule
ATTACH;FMTTYPE=image/jpeg:https://thunderwingbrewing.com/wp-content/uploads/2025/02/tortilla.jpeg
END:VEVENT
BEGIN:VEVENT
DTSTART;TZID=America/New_York:20250919T170000
DTEND;TZID=America/New_York:20250919T200000
DTSTAMP:20260423T064916
CREATED:20250918T191319Z
LAST-MODIFIED:20250918T191319Z
UID:2204-1758301200-1758312000@thunderwingbrewing.com
SUMMARY:Food Truck: Feed Your Soul Kitchen
DESCRIPTION:Feed Your Soul Kitchen is rolling in with a German-inspired menu crafted just for Oktoberfest! From hearty bites to festive comfort food\, they’ll have the perfect pairings for your pint of Wunderbeir. \nCatch them at the taproom from 5–8pm and fuel up before (or after) you test your skills in the competitive games.
URL:https://thunderwingbrewing.com/event/food-truck-feed-your-soul-kitchen-21/
LOCATION:Thunderwing Brewing\, 2419 Scioto Harper Drive\, Columbus\, OH\, 43204\, United States
CATEGORIES:Food Truck Schedule
ATTACH;FMTTYPE=image/jpeg:https://thunderwingbrewing.com/wp-content/uploads/2024/04/Image-3.jpeg
END:VEVENT
BEGIN:VEVENT
DTSTART;TZID=America/New_York:20250913T160000
DTEND;TZID=America/New_York:20250913T200000
DTSTAMP:20260423T064916
CREATED:20250902T170356Z
LAST-MODIFIED:20250902T170701Z
UID:2143-1757779200-1757793600@thunderwingbrewing.com
SUMMARY:Food Truck: Frida's
DESCRIPTION:Game night\, fresh Mexican bites. \nIt’s Buckeyes vs. OU at 7pm—grab dinner from Frida’s starting at 4pm and settle in for kickoff. From bold flavors (think chicken tinga tostados) to big plays\, this Saturday night has everything covered. \nFollow this link to check out the menu.
URL:https://thunderwingbrewing.com/event/food-truck-fridas-5/
LOCATION:Thunderwing Brewing\, 2419 Scioto Harper Drive\, Columbus\, OH\, 43204\, United States
CATEGORIES:Food Truck Schedule
ATTACH;FMTTYPE=image/jpeg:https://thunderwingbrewing.com/wp-content/uploads/2024/07/Image-5.jpeg
END:VEVENT
BEGIN:VEVENT
DTSTART;TZID=America/New_York:20250912T163000
DTEND;TZID=America/New_York:20250912T200000
DTSTAMP:20260423T064916
CREATED:20250902T164328Z
LAST-MODIFIED:20250902T165652Z
UID:2131-1757694600-1757707200@thunderwingbrewing.com
SUMMARY:Food Truck: Fetty's Street Food
DESCRIPTION:Flavor\, pints\, and pinball. \nFetty’s Street Food is pulling up from 4:30–8pm with creative street eats that never disappoint. Stick around for the Pinball Tournament at 7pm and make a night of it. \nFollow this link to check out the menu.
URL:https://thunderwingbrewing.com/event/food-truck-fettys-street-food-20/
LOCATION:Thunderwing Brewing\, 2419 Scioto Harper Drive\, Columbus\, OH\, 43204\, United States
CATEGORIES:Food Truck Schedule
ATTACH;FMTTYPE=image/jpeg:https://thunderwingbrewing.com/wp-content/uploads/2024/01/Image-3.jpeg
END:VEVENT
BEGIN:VEVENT
DTSTART;TZID=America/New_York:20250906T160000
DTEND;TZID=America/New_York:20250906T200000
DTSTAMP:20260423T064916
CREATED:20250902T163521Z
LAST-MODIFIED:20250902T163521Z
UID:2128-1757174400-1757188800@thunderwingbrewing.com
SUMMARY:Food Truck: Taquitos
DESCRIPTION:Game day bites\, taproom style.\n\nIt’s OSU vs. Grambling State at 3:30pm—come early to grab your spot for the watch party and stick around for dinner with Taquitos Truck from 4–8pm. They’re serving up street tacos\, burritos\, and more to keep your game day fueled and your pint perfectly paired.\n\nFollow this link to check out the menu.
URL:https://thunderwingbrewing.com/event/food-truck-taquitos/
LOCATION:Thunderwing Brewing\, 2419 Scioto Harper Drive\, Columbus\, OH\, 43204\, United States
CATEGORIES:Food Truck Schedule
ATTACH;FMTTYPE=image/webp:https://thunderwingbrewing.com/wp-content/uploads/2025/04/rsw_2320.webp
END:VEVENT
BEGIN:VEVENT
DTSTART;TZID=America/New_York:20250905T170000
DTEND;TZID=America/New_York:20250905T200000
DTSTAMP:20260423T064916
CREATED:20250902T154800Z
LAST-MODIFIED:20250902T161839Z
UID:2116-1757091600-1757102400@thunderwingbrewing.com
SUMMARY:Food Truck: Feed Your Soul Kitchen
DESCRIPTION:Dinner\, drinks\, and bingo night fun. \nFeed Your Soul Kitchen is serving from 5–8pm\, perfect timing for joining Music Bingo with Queens Entertainment starting at 7pm. Grab a plate\, grab a pint\, and settle in for good eats and even better beats. \nFollow this link to check out the menu.
URL:https://thunderwingbrewing.com/event/food-truck-feed-your-soul-kitchen-20/
LOCATION:Thunderwing Brewing\, 2419 Scioto Harper Drive\, Columbus\, OH\, 43204\, United States
CATEGORIES:Food Truck Schedule
ATTACH;FMTTYPE=image/jpeg:https://thunderwingbrewing.com/wp-content/uploads/2024/04/Image-3.jpeg
END:VEVENT
BEGIN:VEVENT
DTSTART;TZID=America/New_York:20250830T160000
DTEND;TZID=America/New_York:20250830T200000
DTSTAMP:20260423T064916
CREATED:20250828T211033Z
LAST-MODIFIED:20250828T211033Z
UID:2113-1756569600-1756584000@thunderwingbrewing.com
SUMMARY:Food Truck: Explorers Club
DESCRIPTION:Big flavor\, post-game pint.\n\nExplorers Club is parked at the taproom from 4–8pm with bold\, creative eats made to match your Saturday plans. Stick around after the game or swing by for dinner—either way\, they’ve got you covered.\n\nFollow this link to check out the menu.
URL:https://thunderwingbrewing.com/event/food-truck-explorers-club-14/
LOCATION:OH
CATEGORIES:Food Truck Schedule
ATTACH;FMTTYPE=image/jpeg:https://thunderwingbrewing.com/wp-content/uploads/2024/12/Image.jpeg
END:VEVENT
BEGIN:VEVENT
DTSTART;TZID=America/New_York:20250822T170000
DTEND;TZID=America/New_York:20250822T200000
DTSTAMP:20260423T064916
CREATED:20250818T171037Z
LAST-MODIFIED:20250818T171037Z
UID:2105-1755882000-1755892800@thunderwingbrewing.com
SUMMARY:Food Truck: Feed Your Soul Kitchen
DESCRIPTION:Friday night plans = dinner\, drinks\, and karaoke. \n\nWe’ve got Feed Your Soul Kitchen serving from 5–8pm and Karaoke with Queens Entertainment starting at 7pm. Come hungry\, grab a pint\, and stick around for a night of bold flavors\, big cheers\, and maybe even your moment in the spotlight.\n\nFollow this link to check out the menu.
URL:https://thunderwingbrewing.com/event/food-truck-feed-your-soul-kitchen-19/
LOCATION:Thunderwing Brewing\, 2419 Scioto Harper Drive\, Columbus\, OH\, 43204\, United States
CATEGORIES:Food Truck Schedule
ATTACH;FMTTYPE=image/jpeg:https://thunderwingbrewing.com/wp-content/uploads/2024/04/Image-3.jpeg
END:VEVENT
BEGIN:VEVENT
DTSTART;TZID=America/New_York:20250821T170000
DTEND;TZID=America/New_York:20250821T200000
DTSTAMP:20260423T064916
CREATED:20250818T170416Z
LAST-MODIFIED:20250818T170416Z
UID:2102-1755795600-1755806400@thunderwingbrewing.com
SUMMARY:Food Truck: Tortilla Street Food
DESCRIPTION:It’s Westgate Night Out (all are welcome)! Skip the dishes at home\, bring a neighbor\, and enjoy a pint and a meal from Tortilla Street Food!
URL:https://thunderwingbrewing.com/event/food-truck-tortilla-street-food-10/
LOCATION:Thunderwing Brewing\, 2419 Scioto Harper Drive\, Columbus\, OH\, 43204\, United States
CATEGORIES:Food Truck Schedule
ATTACH;FMTTYPE=image/jpeg:https://thunderwingbrewing.com/wp-content/uploads/2025/02/tortilla.jpeg
END:VEVENT
BEGIN:VEVENT
DTSTART;TZID=America/New_York:20250809T170000
DTEND;TZID=America/New_York:20250809T200000
DTSTAMP:20260423T064916
CREATED:20250730T170545Z
LAST-MODIFIED:20250730T170646Z
UID:2084-1754758800-1754769600@thunderwingbrewing.com
SUMMARY:Food Truck: Feed Your Soul Kitchen
DESCRIPTION:Comfort food with flavor that speaks for itself. \nFeed Your Soul Kitchen is back at the taproom serving rich\, satisfying dishes packed with homestyle flavor. Swing by Saturday\, August 9 from 5–8pm and grab a plate that pairs perfectly with your favorite pint.\n\nFollow this link to check out the menu.
URL:https://thunderwingbrewing.com/event/food-truck-feed-your-soul-kitchen-18/
LOCATION:Thunderwing Brewing\, 2419 Scioto Harper Drive\, Columbus\, OH\, 43204\, United States
CATEGORIES:Food Truck Schedule
ATTACH;FMTTYPE=image/jpeg:https://thunderwingbrewing.com/wp-content/uploads/2024/04/Image-3.jpeg
END:VEVENT
BEGIN:VEVENT
DTSTART;TZID=America/New_York:20250808T163000
DTEND;TZID=America/New_York:20250808T200000
DTSTAMP:20260423T064916
CREATED:20250729T195310Z
LAST-MODIFIED:20250729T195310Z
UID:2068-1754670600-1754683200@thunderwingbrewing.com
SUMMARY:Food Truck: Fetty's Street Food
DESCRIPTION:Big flavor. No borders.\n\nFetty’s Street Food is back with bold flavors and creative street eats that always hit the spot. Whether you’re craving something spicy\, savory\, or totally unexpected\, they’ve got you covered. Food served Friday\, August 8 from 4:30–8pm… that’s enough time to have dinner and join our free-to-play pinball tournament at 7pm!\n\nFollow this link to check out the menu.
URL:https://thunderwingbrewing.com/event/food-truck-fettys-street-food-19/
LOCATION:Thunderwing Brewing\, 2419 Scioto Harper Drive\, Columbus\, OH\, 43204\, United States
CATEGORIES:Food Truck Schedule
ATTACH;FMTTYPE=image/jpeg:https://thunderwingbrewing.com/wp-content/uploads/2024/01/Image-3.jpeg
END:VEVENT
BEGIN:VEVENT
DTSTART;TZID=America/New_York:20250807T170000
DTEND;TZID=America/New_York:20250807T200000
DTSTAMP:20260423T064916
CREATED:20250730T171220Z
LAST-MODIFIED:20250730T173237Z
UID:2088-1754586000-1754596800@thunderwingbrewing.com
SUMMARY:Food Truck: Tortilla Street Food
DESCRIPTION:Weeknight win: tacos and beer at the taproom. \nTortilla Street Food is rolling in with bold\, fresh flavor that’s just what your Thursday needs. From tacos to bowls and everything in between\, they’ve got the perfect pairing for your pint. Catch them at the taproom from 5–8pm. \nFollow this link to check out the menu. \nStop by\, grab some food\, celebrate National IPA Day\, and toast farewell to our bartender\, Nikki!
URL:https://thunderwingbrewing.com/event/food-truck-tortilla-street-food-9/
LOCATION:Thunderwing Brewing\, 2419 Scioto Harper Drive\, Columbus\, OH\, 43204\, United States
CATEGORIES:Food Truck Schedule
ATTACH;FMTTYPE=image/jpeg:https://thunderwingbrewing.com/wp-content/uploads/2025/02/tortilla.jpeg
END:VEVENT
BEGIN:VEVENT
DTSTART;TZID=America/New_York:20250802T160000
DTEND;TZID=America/New_York:20250802T200000
DTSTAMP:20260423T064916
CREATED:20250729T195644Z
LAST-MODIFIED:20250729T195644Z
UID:2071-1754150400-1754164800@thunderwingbrewing.com
SUMMARY:Food Truck: Zaki Mediterranean Grill
DESCRIPTION:Fresh flavor\, grilled to perfection.\nZaki Mediterranean Grill is pulling up to the taproom this Saturday from 4–8pm with a lineup of bold\, vibrant dishes. From shawarma to falafel and everything in between\, this menu brings the heat without missing the balance.\nGrab a brew\, grab a plate\, and make your Saturday count!\nFollow this link to check out the menu.
URL:https://thunderwingbrewing.com/event/food-truck-zaki-mediterranean-grill-5/
LOCATION:Thunderwing Brewing\, 2419 Scioto Harper Drive\, Columbus\, OH\, 43204\, United States
CATEGORIES:Food Truck Schedule
ATTACH;FMTTYPE=image/jpeg:https://thunderwingbrewing.com/wp-content/uploads/2025/04/8YRY4HZvzzP4bXYqdXWNfU_q.jpg
END:VEVENT
BEGIN:VEVENT
DTSTART;TZID=America/New_York:20250801T160000
DTEND;TZID=America/New_York:20250801T200000
DTSTAMP:20260423T064916
CREATED:20250716T231615Z
LAST-MODIFIED:20250716T232126Z
UID:2044-1754064000-1754078400@thunderwingbrewing.com
SUMMARY:Food Truck: Spanglish Latin Street Food
DESCRIPTION:Flavors outside\, bingo beats inside. Spanglish Latin Street Food is back at the taproom Friday\, August 1—bringing bold\, vibrant eats while Queens Entertainment hosts Music Bingo inside. Grab a bite and a bingo card—food served from 4–8pm.\nFollow this link to check out the menu.
URL:https://thunderwingbrewing.com/event/food-truck-spanglish-latin-street-food-3/
LOCATION:Thunderwing Brewing\, 2419 Scioto Harper Drive\, Columbus\, OH\, 43204\, United States
CATEGORIES:Food Truck Schedule
ATTACH;FMTTYPE=image/jpeg:https://thunderwingbrewing.com/wp-content/uploads/2025/04/467183665_543434651947744_172420352254433441_n-1.jpg
END:VEVENT
BEGIN:VEVENT
DTSTART;TZID=America/New_York:20250726T170000
DTEND;TZID=America/New_York:20250726T210000
DTSTAMP:20260423T064916
CREATED:20250716T225615Z
LAST-MODIFIED:20250716T225615Z
UID:2041-1753549200-1753563600@thunderwingbrewing.com
SUMMARY:Food Truck: Explorers Club
DESCRIPTION:Big bites\, bold twists\, and serious weekend energy. Explorers Club is back at the taproom with their signature mix of adventurous eats and local flavor. If you’ve been craving something different\, this is your Saturday sign. Serving 5–9pm on July 26. \nFollow this link to check out the menu.
URL:https://thunderwingbrewing.com/event/food-truck-explorers-club-13/
LOCATION:Thunderwing Brewing\, 2419 Scioto Harper Drive\, Columbus\, OH\, 43204\, United States
CATEGORIES:Food Truck Schedule
ATTACH;FMTTYPE=image/jpeg:https://thunderwingbrewing.com/wp-content/uploads/2024/12/Image.jpeg
END:VEVENT
BEGIN:VEVENT
DTSTART;TZID=America/New_York:20250725T170000
DTEND;TZID=America/New_York:20250725T200000
DTSTAMP:20260423T064916
CREATED:20250716T225127Z
LAST-MODIFIED:20250716T225127Z
UID:2038-1753462800-1753473600@thunderwingbrewing.com
SUMMARY:Food Truck: Feed Your Soul Kitchen
DESCRIPTION:Your Friday dinner plans = handled. Feed Your Soul Kitchen is rolling in with homestyle classics and flavor-packed favorites. From first bite to last sip\, this is comfort food with serious crave factor. Catch them at the taproom Friday\, July 25 from 5–8pm.\nFollow this link to check out the menu.
URL:https://thunderwingbrewing.com/event/food-truck-feed-your-soul-kitchen-17/
LOCATION:Thunderwing Brewing\, 2419 Scioto Harper Drive\, Columbus\, OH\, 43204\, United States
CATEGORIES:Food Truck Schedule
ATTACH;FMTTYPE=image/jpeg:https://thunderwingbrewing.com/wp-content/uploads/2024/04/Image-3.jpeg
END:VEVENT
BEGIN:VEVENT
DTSTART;TZID=America/New_York:20250719T170000
DTEND;TZID=America/New_York:20250719T200000
DTSTAMP:20260423T064916
CREATED:20250707T034757Z
LAST-MODIFIED:20250707T034757Z
UID:2000-1752944400-1752955200@thunderwingbrewing.com
SUMMARY:Food Truck: La Baia Italian Food
DESCRIPTION:Rustic Italian eats\, right outside the taproom.\n\nLa Baia Italian Food is rolling into the taproom Saturday\, July 19 with pasta\, paninis\, lasagna\, and more. Pair a pint with something fresh off the truck—serving 5–8pm.\n\nFollow this link to check out the menu!
URL:https://thunderwingbrewing.com/event/la-baia-italian-food-truck/
LOCATION:Thunderwing Brewing\, 2419 Scioto Harper Drive\, Columbus\, OH\, 43204\, United States
CATEGORIES:Food Truck Schedule
ATTACH;FMTTYPE=image/png:https://thunderwingbrewing.com/wp-content/uploads/2025/07/la-baia.png
END:VEVENT
BEGIN:VEVENT
DTSTART;TZID=America/New_York:20250718T170000
DTEND;TZID=America/New_York:20250718T210000
DTSTAMP:20260423T064916
CREATED:20250716T161801Z
LAST-MODIFIED:20250716T161810Z
UID:2026-1752858000-1752872400@thunderwingbrewing.com
SUMMARY:Food Truck: Explorers Club
DESCRIPTION:Explorers Club is parked at the taproom Friday\, July 18—bringing bold eats alongside Music Bingo with Queens Entertainment! Food from 5–9pm\, bingo kicks off at 7pm. Come ready for a good time!\n\nFollow this link to check out the menu.
URL:https://thunderwingbrewing.com/event/food-truck-explorers-club-12/
LOCATION:Thunderwing Brewing\, 2419 Scioto Harper Drive\, Columbus\, OH\, 43204\, United States
CATEGORIES:Food Truck Schedule
ATTACH;FMTTYPE=image/jpeg:https://thunderwingbrewing.com/wp-content/uploads/2024/12/Image.jpeg
END:VEVENT
BEGIN:VEVENT
DTSTART;TZID=America/New_York:20250712T170000
DTEND;TZID=America/New_York:20250712T200000
DTSTAMP:20260423T064916
CREATED:20250707T034159Z
LAST-MODIFIED:20250707T034159Z
UID:1997-1752339600-1752350400@thunderwingbrewing.com
SUMMARY:Food Truck: Feed Your Soul Kitchen
DESCRIPTION:Comfort food with flavor that speaks for itself.\n\nFeed Your Soul Kitchen returns to the taproom with scratch-made favorites and rich\, satisfying flavor. Come out Saturday\, July 12 from 5–8pm for crowd-pleasing comfort food that pairs perfectly with a cold pint.\n\nFollow this link to check out the menu!
URL:https://thunderwingbrewing.com/event/food-truck-feed-your-soul-kitchen-16/
LOCATION:Thunderwing Brewing\, 2419 Scioto Harper Drive\, Columbus\, OH\, 43204\, United States
CATEGORIES:Food Truck Schedule
ATTACH;FMTTYPE=image/jpeg:https://thunderwingbrewing.com/wp-content/uploads/2024/04/Image-3.jpeg
END:VEVENT
BEGIN:VEVENT
DTSTART;TZID=America/New_York:20250711T163000
DTEND;TZID=America/New_York:20250711T200000
DTSTAMP:20260423T064916
CREATED:20250707T033844Z
LAST-MODIFIED:20250707T033844Z
UID:1994-1752251400-1752264000@thunderwingbrewing.com
SUMMARY:Food Truck: Fetty's Street Food
DESCRIPTION:Flavor-packed Fridays are our favorite tradition.\n\nFetty’s Street Food is back with bold flavors and creative street eats that always hit the spot. Whether you’re craving something spicy\, savory\, or totally unexpected\, they’ve got you covered. Food served Friday\, July 11 from 5–8pm.\n\nFollow this link to check out the menu.
URL:https://thunderwingbrewing.com/event/food-truck-fettys-street-food-18/
LOCATION:Thunderwing Brewing\, 2419 Scioto Harper Drive\, Columbus\, OH\, 43204\, United States
CATEGORIES:Food Truck Schedule
ATTACH;FMTTYPE=image/jpeg:https://thunderwingbrewing.com/wp-content/uploads/2024/01/Image-3.jpeg
END:VEVENT
BEGIN:VEVENT
DTSTART;TZID=America/New_York:20250628T170000
DTEND;TZID=America/New_York:20250628T200000
DTSTAMP:20260423T064916
CREATED:20250623T174542Z
LAST-MODIFIED:20250623T174542Z
UID:1986-1751130000-1751140800@thunderwingbrewing.com
SUMMARY:Food Truck: Feed Your Soul Kitchen
DESCRIPTION:Weekend eats with a whole lotta soul.\n\nFeed Your Soul Kitchen is back at the taproom Saturday\, June 28 with soulful flavor and satisfying bites. Perfect pairing? One of their specials + a Thunderwing brew—served from 5–8pm.\n\nFollow this link to check out the menu.
URL:https://thunderwingbrewing.com/event/food-truck-feed-your-soul-kitchen-15/
LOCATION:Thunderwing Brewing\, 2419 Scioto Harper Drive\, Columbus\, OH\, 43204\, United States
CATEGORIES:Food Truck Schedule
ATTACH;FMTTYPE=image/jpeg:https://thunderwingbrewing.com/wp-content/uploads/2024/04/Image-3.jpeg
END:VEVENT
BEGIN:VEVENT
DTSTART;TZID=America/New_York:20250627T163000
DTEND;TZID=America/New_York:20250627T200000
DTSTAMP:20260423T064916
CREATED:20250623T172028Z
LAST-MODIFIED:20250623T172028Z
UID:1981-1751041800-1751054400@thunderwingbrewing.com
SUMMARY:Food Truck: Tortilla Street Food
DESCRIPTION:Friday calls for fresh street food. \nKick off the weekend with Tortilla Street Food parked at the taproom! From burritos to bowls\, they’re serving up customizable favorites from 4:30–8pm. \nFollow this link to check out the menu.
URL:https://thunderwingbrewing.com/event/food-truck-001/
LOCATION:Thunderwing Brewing\, 2419 Scioto Harper Drive\, Columbus\, OH\, 43204\, United States
CATEGORIES:Food Truck Schedule
ATTACH;FMTTYPE=image/jpeg:https://thunderwingbrewing.com/wp-content/uploads/2025/02/tortilla.jpeg
END:VEVENT
BEGIN:VEVENT
DTSTART;TZID=America/New_York:20250621T170000
DTEND;TZID=America/New_York:20250621T200000
DTSTAMP:20260423T064916
CREATED:20250617T180753Z
LAST-MODIFIED:20250617T180753Z
UID:1966-1750525200-1750536000@thunderwingbrewing.com
SUMMARY:Food Truck: Fridas
DESCRIPTION:Boldness carries over from our Pride Party with this Saturday night food truck feature!\n\nFridas Food Truck is rolling into the taproom this Saturday with vibrant street food that’s as eye-catching as it is craveable. From bold flavors to fresh pairings\, it’s the perfect match for your weekend pint—served from 5–8pm.\n\nFollow this link to check out the menu!
URL:https://thunderwingbrewing.com/event/food-truck-fridas-4/
LOCATION:Thunderwing Brewing\, 2419 Scioto Harper Drive\, Columbus\, OH\, 43204\, United States
CATEGORIES:Food Truck Schedule
ATTACH;FMTTYPE=image/jpeg:https://thunderwingbrewing.com/wp-content/uploads/2024/07/Image-5.jpeg
END:VEVENT
BEGIN:VEVENT
DTSTART;TZID=America/New_York:20250620T160000
DTEND;TZID=America/New_York:20250620T200000
DTSTAMP:20260423T064916
CREATED:20250523T230503Z
LAST-MODIFIED:20250617T181107Z
UID:1907-1750435200-1750449600@thunderwingbrewing.com
SUMMARY:Food Truck: Oh My Cod Vegan Seafood Co. & Top Drawer Sweets
DESCRIPTION:Oh My Cod is coming back to Columbus–and to your favorite westside neighborhood taproom!!!! \nWhether you’re a plant-based foodie or just curious\, their menu is packed with flavor and fun. \n🍽️ Menu Highlights:\n🐟 Fish and Chips – Crispy\, golden perfection.\n🦞 Lobsta Mac – Creamy\, dreamy\, and oh-so-indulgent.\n🦀 Crabby Cakes – Packed with flavor\, just like you remember.\n🔥 Buffalo Shrymp – Spicy\, crispy\, plant-based goodness.\n✨ Scallops – Tender bites\, 100% guilt-free.\n🥥 Coconut Shrymp – Sweet\, savory\, and tropical.\n🌯 Crabby Spring Rolls – A fresh twist on a seafood classic.\n🍟 Yucca Fries!🍟\n…and dessert will be available from their friends\, Top Drawer Sweets! \nCome SEA what the buzz is about! 🌊 This is plant-based seafood like you’ve never experienced before. Bring your friends\, your appetite\, and your love for great food – we’ll take care of the rest. \n🎥 Follow Oh My Cod Vegan Seafood Co. for sneak peeks and updates. Don’t miss it!
URL:https://thunderwingbrewing.com/event/food-truck-oh-my-cod-vegan-seafood-co/
LOCATION:Thunderwing Brewing\, 2419 Scioto Harper Drive\, Columbus\, OH\, 43204\, United States
CATEGORIES:Food Truck Schedule
ATTACH;FMTTYPE=image/jpeg:https://thunderwingbrewing.com/wp-content/uploads/2025/05/oh-my-cod.jpg
END:VEVENT
BEGIN:VEVENT
DTSTART;TZID=America/New_York:20250619T170000
DTEND;TZID=America/New_York:20250619T200000
DTSTAMP:20260423T064916
CREATED:20250617T180225Z
LAST-MODIFIED:20250617T180225Z
UID:1963-1750352400-1750363200@thunderwingbrewing.com
SUMMARY:Juneteenth Food Truck: Taquitos
DESCRIPTION:We’re honoring Juneteenth with community\, cold beer\, and bold flavor — featuring the Taquitos food truck!\n\nIt’s a night of reflection\, celebration\, and coming together—plus a lineup of flavorful eats from 5–8pm.\n\nFollow this link to check out the menu!
URL:https://thunderwingbrewing.com/event/juneteenth-food-truck-taquitos/
LOCATION:Thunderwing Brewing\, 2419 Scioto Harper Drive\, Columbus\, OH\, 43204\, United States
CATEGORIES:Food Truck Schedule
ATTACH;FMTTYPE=image/webp:https://thunderwingbrewing.com/wp-content/uploads/2025/04/rsw_2320.webp
END:VEVENT
BEGIN:VEVENT
DTSTART;TZID=America/New_York:20250614T163000
DTEND;TZID=America/New_York:20250614T200000
DTSTAMP:20260423T064916
CREATED:20250612T171601Z
LAST-MODIFIED:20250612T171601Z
UID:1954-1749918600-1749931200@thunderwingbrewing.com
SUMMARY:Food Truck: Fetty's Street Food
DESCRIPTION:Flavor’s on tap this Friday—and not just in the glass.\n\nJoin us at the taproom this Friday as Fetty’s Street Food rolls in with their bold\, globally inspired menu. Pair a pint with something fresh off the truck and kick off your weekend the right way—serving 4:30–8pm\, digital ordering available at the link below.\n\nFollow this link to check out the menu!
URL:https://thunderwingbrewing.com/event/food-truck-fettys-street-food-17/
LOCATION:Thunderwing Brewing\, 2419 Scioto Harper Drive\, Columbus\, OH\, 43204\, United States
CATEGORIES:Food Truck Schedule
ATTACH;FMTTYPE=image/jpeg:https://thunderwingbrewing.com/wp-content/uploads/2024/01/Image-3.jpeg
END:VEVENT
BEGIN:VEVENT
DTSTART;TZID=America/New_York:20250608T160000
DTEND;TZID=America/New_York:20250608T200000
DTSTAMP:20260423T064916
CREATED:20250524T003519Z
LAST-MODIFIED:20250607T211246Z
UID:1930-1749398400-1749412800@thunderwingbrewing.com
SUMMARY:Food Truck: Purdy Good Food -- Cancelled
DESCRIPTION:Update: Unfortunately\, today’s food truck cancelled on us last minute. Time to break out the delivery\, or bring food from home! See y’all tonight! \n  \nSaturday’s on the menu\, and it tastes Purdy Good. \nGet your weekend fix with Purdy Good Food back at the taproom! From comfort food to creative twists\, they’re serving the goods from 5–8pm. Come by for dinner and a pint or two. \nFollow this link to check out the menu!
URL:https://thunderwingbrewing.com/event/food-truck-purdy-good-food-2/
LOCATION:Thunderwing Brewing\, 2419 Scioto Harper Drive\, Columbus\, OH\, 43204\, United States
CATEGORIES:Food Truck Schedule
ATTACH;FMTTYPE=image/jpeg:https://thunderwingbrewing.com/wp-content/uploads/2025/05/purdy-good-food.jpg
END:VEVENT
BEGIN:VEVENT
DTSTART;TZID=America/New_York:20250606T160000
DTEND;TZID=America/New_York:20250606T200000
DTSTAMP:20260423T064916
CREATED:20250524T002342Z
LAST-MODIFIED:20250524T002440Z
UID:1917-1749225600-1749240000@thunderwingbrewing.com
SUMMARY:Food Truck: Zapata's Street Food
DESCRIPTION:Bites\, brews\, and bingo? It’s a whole vibe. \nFriday’s looking extra fun with Zapata’s Street Food in the lot and Music Bingo inside\, hosted by Queens Entertainment! Come early for tacos and street food\, stay for the tunes and prizes—food from 4–8pm. \nFollow this link to check out the menu!
URL:https://thunderwingbrewing.com/event/food-truck-zapatas-street-food-4/
LOCATION:Thunderwing Brewing\, 2419 Scioto Harper Drive\, Columbus\, OH\, 43204\, United States
CATEGORIES:Food Truck Schedule
ATTACH;FMTTYPE=image/png:https://thunderwingbrewing.com/wp-content/uploads/2025/05/zapatas-2.png
END:VEVENT
BEGIN:VEVENT
DTSTART;TZID=America/New_York:20250530T160000
DTEND;TZID=America/New_York:20250530T200000
DTSTAMP:20260423T064916
CREATED:20250523T202734Z
LAST-MODIFIED:20250524T002511Z
UID:1904-1748620800-1748635200@thunderwingbrewing.com
SUMMARY:Food Truck: Spanglish Latin Street Food
DESCRIPTION:Friday nights are for beer and bold bites. \nWe’re kicking off the weekend with Spanglish Latin Street Food at the taproom! From tacos to street-style specials\, their menu is the perfect match for what’s pouring. Come hungry—food served from 4–8pm. \nFollow this link to check out the menu!
URL:https://thunderwingbrewing.com/event/food-truck-spanglish-latin-street-food-2/
LOCATION:Thunderwing Brewing\, 2419 Scioto Harper Drive\, Columbus\, OH\, 43204\, United States
CATEGORIES:Food Truck Schedule
ATTACH;FMTTYPE=image/jpeg:https://thunderwingbrewing.com/wp-content/uploads/2025/04/467183665_543434651947744_172420352254433441_n-1.jpg
END:VEVENT
BEGIN:VEVENT
DTSTART;TZID=America/New_York:20250526T160000
DTEND;TZID=America/New_York:20250526T200000
DTSTAMP:20260423T064916
CREATED:20250523T200827Z
LAST-MODIFIED:20250524T002528Z
UID:1899-1748275200-1748289600@thunderwingbrewing.com
SUMMARY:Food Truck: Zaki Mediterranean Grill
DESCRIPTION:We’re open for the holiday—come spend Memorial Day with us! \nWe don’t normally do Mondays\, but this one’s special. We’re open for Memorial Day\, and Zaki Mediterranean Grill is rolling in with bold\, savory flavors. Taproom’s open\, beers are cold\, and Zaki is serving from 4–8pm. \nFollow this link to check out the menu!
URL:https://thunderwingbrewing.com/event/food-truck-zaki-mediterranean-grill-4/
LOCATION:Thunderwing Brewing\, 2419 Scioto Harper Drive\, Columbus\, OH\, 43204\, United States
CATEGORIES:Food Truck Schedule
ATTACH;FMTTYPE=image/jpeg:https://thunderwingbrewing.com/wp-content/uploads/2025/04/8YRY4HZvzzP4bXYqdXWNfU_q.jpg
END:VEVENT
END:VCALENDAR