BEGIN:VCALENDAR
VERSION:2.0
PRODID:-//ThunderWing Brewing - ECPv6.15.20//NONSGML v1.0//EN
CALSCALE:GREGORIAN
METHOD:PUBLISH
X-ORIGINAL-URL:https://thunderwingbrewing.com
X-WR-CALDESC:Events for ThunderWing Brewing
REFRESH-INTERVAL;VALUE=DURATION:PT1H
X-Robots-Tag:noindex
X-PUBLISHED-TTL:PT1H
BEGIN:VTIMEZONE
TZID:America/New_York
BEGIN:DAYLIGHT
TZOFFSETFROM:-0500
TZOFFSETTO:-0400
TZNAME:EDT
DTSTART:20240310T070000
END:DAYLIGHT
BEGIN:STANDARD
TZOFFSETFROM:-0400
TZOFFSETTO:-0500
TZNAME:EST
DTSTART:20241103T060000
END:STANDARD
BEGIN:DAYLIGHT
TZOFFSETFROM:-0500
TZOFFSETTO:-0400
TZNAME:EDT
DTSTART:20250309T070000
END:DAYLIGHT
BEGIN:STANDARD
TZOFFSETFROM:-0400
TZOFFSETTO:-0500
TZNAME:EST
DTSTART:20251102T060000
END:STANDARD
BEGIN:DAYLIGHT
TZOFFSETFROM:-0500
TZOFFSETTO:-0400
TZNAME:EDT
DTSTART:20260308T070000
END:DAYLIGHT
BEGIN:STANDARD
TZOFFSETFROM:-0400
TZOFFSETTO:-0500
TZNAME:EST
DTSTART:20261101T060000
END:STANDARD
BEGIN:DAYLIGHT
TZOFFSETFROM:-0500
TZOFFSETTO:-0400
TZNAME:EDT
DTSTART:20270314T070000
END:DAYLIGHT
BEGIN:STANDARD
TZOFFSETFROM:-0400
TZOFFSETTO:-0500
TZNAME:EST
DTSTART:20271107T060000
END:STANDARD
END:VTIMEZONE
BEGIN:VEVENT
DTSTART;TZID=America/New_York:20251213T160000
DTEND;TZID=America/New_York:20251213T200000
DTSTAMP:20260421T192745
CREATED:20251213T220827Z
LAST-MODIFIED:20251213T220827Z
UID:2364-1765641600-1765656000@thunderwingbrewing.com
SUMMARY:Food Truck: Tortilla Street Food
DESCRIPTION:Saturdays are for tacos and taproom time. \nTortilla Street Food is rolling in this Saturday from 4–8 PM\, serving their crowd-pleasing Mexican-inspired favorites. Come hungry\, grab a pint\, and make this your go-to Saturday hangout as we ease into the holiday season.
URL:https://thunderwingbrewing.com/event/food-truck-tortilla-street-food-14/
LOCATION:Thunderwing Brewing\, 2419 Scioto Harper Drive\, Columbus\, OH\, 43204\, United States
CATEGORIES:Food Truck Schedule
ATTACH;FMTTYPE=image/jpeg:https://thunderwingbrewing.com/wp-content/uploads/2025/02/tortilla.jpeg
END:VEVENT
BEGIN:VEVENT
DTSTART;TZID=America/New_York:20251226T170000
DTEND;TZID=America/New_York:20251226T200000
DTSTAMP:20260421T192745
CREATED:20251226T194409Z
LAST-MODIFIED:20251226T194409Z
UID:2387-1766768400-1766779200@thunderwingbrewing.com
SUMMARY:Food Truck: Taco Mania
DESCRIPTION:First visit\, big flavor. 🌮 \nWe’re excited to welcome Taco Mania to the taproom for the first time tonight from 5–8PM! They’re bringing a crave-worthy lineup featuring birria tacos\, tortas\, quesadillas\, and more — bold\, comforting flavors that pair perfectly with a cold pint. \nCome hungry\, show some love to a new food truck friend\, and kick off your evening with great beer and even better eats.
URL:https://thunderwingbrewing.com/event/food-truck-taco-mania/
LOCATION:Thunderwing Brewing\, 2419 Scioto Harper Drive\, Columbus\, OH\, 43204\, United States
CATEGORIES:Food Truck Schedule
ATTACH;FMTTYPE=image/jpeg:https://thunderwingbrewing.com/wp-content/uploads/2025/12/taco-mania-1.jpg
END:VEVENT
BEGIN:VEVENT
DTSTART;TZID=America/New_York:20260109T163000
DTEND;TZID=America/New_York:20260109T200000
DTSTAMP:20260421T192745
CREATED:20251229T220415Z
LAST-MODIFIED:20251229T221130Z
UID:2394-1767976200-1767988800@thunderwingbrewing.com
SUMMARY:Food Truck: Fetty's Street Food
DESCRIPTION:New year\, same cadence — it’s the second Friday of the month\, which makes it Fetty’s Friday! \nWe’re kicking off 2025 with a familiar favorite. Fetty’s Street Food is back at Thunderwing on Friday\, January 9 from 4:30–8PM\, officially continuing their spot as our go-to second-Friday food truck. Expect bold\, flavor-forward dishes that pair effortlessly with what’s pouring — the kind of eats that make settling in for the evening an easy choice. \nBonus: Stick around after dinner to join in our monthly low-stakes pinball tournament at 7pm. All skill levels welcomed\, no cost to register!
URL:https://thunderwingbrewing.com/event/fettys-thunderwing/
LOCATION:Thunderwing Brewing\, 2419 Scioto Harper Drive\, Columbus\, OH\, 43204\, United States
CATEGORIES:Food Truck Schedule
ATTACH;FMTTYPE=image/jpeg:https://thunderwingbrewing.com/wp-content/uploads/2024/01/Image-3.jpeg
END:VEVENT
BEGIN:VEVENT
DTSTART;TZID=America/New_York:20260116T170000
DTEND;TZID=America/New_York:20260116T200000
DTSTAMP:20260421T192745
CREATED:20260111T224816Z
LAST-MODIFIED:20260111T224816Z
UID:2418-1768582800-1768593600@thunderwingbrewing.com
SUMMARY:Food Truck: The Pizza Rover
DESCRIPTION:Grab a slice before the next song drops. \nThe Pizza Rover is rolling into the taproom this Friday from 5–8PM\, serving up wood-fired pizzas with perfectly crisp crusts and crowd-pleasing toppings. Whether you’re fueling up before Music Bingo kicks off or grabbing a bite between rounds\, their pizza is the ideal pairing for a pint and a playlist. \nCome hungry\, grab a seat\, and let Pizza Rover handle dinner while you sing along and settle in for the night.
URL:https://thunderwingbrewing.com/event/pizza-rover/
LOCATION:Thunderwing Brewing\, 2419 Scioto Harper Drive\, Columbus\, OH\, 43204\, United States
CATEGORIES:Food Truck Schedule
ATTACH;FMTTYPE=image/jpeg:https://thunderwingbrewing.com/wp-content/uploads/2026/01/pizza-rover-2.jpg
END:VEVENT
BEGIN:VEVENT
DTSTART;TZID=America/New_York:20260213T163000
DTEND;TZID=America/New_York:20260213T200000
DTSTAMP:20260421T192745
CREATED:20251110T235942Z
LAST-MODIFIED:20260203T084853Z
UID:2324-1771000200-1771012800@thunderwingbrewing.com
SUMMARY:Food Truck: Fetty's Street Food
DESCRIPTION:Big flavor meets flipper frenzy.\nFetty’s Street Food is back for their monthly visit from 4:30–8PM with their signature global fusion dishes that pair perfectly with a pint. Come early for dinner\, then stick around for our monthly pinball tournament at 7pm featuring prizes\, bragging rights\, and a whole lot of friendly competition!
URL:https://thunderwingbrewing.com/event/food-truck-fettys-street-food-23/
LOCATION:Thunderwing Brewing\, 2419 Scioto Harper Drive\, Columbus\, OH\, 43204\, United States
CATEGORIES:Food Truck Schedule
ATTACH;FMTTYPE=image/jpeg:https://thunderwingbrewing.com/wp-content/uploads/2024/01/Image-3.jpeg
END:VEVENT
BEGIN:VEVENT
DTSTART;TZID=America/New_York:20260306T170000
DTEND;TZID=America/New_York:20260306T200000
DTSTAMP:20260421T192745
CREATED:20260303T131458Z
LAST-MODIFIED:20260303T131458Z
UID:2477-1772816400-1772827200@thunderwingbrewing.com
SUMMARY:Food Truck: C34 Street Bites
DESCRIPTION:C34 Street Bites is a chef-owned\, scratch food truck serving Mexican-American fusion foods. \nSkip the dishes on your Friday night\, eat\, and enjoy a few pints to start your weekend off right!
URL:https://thunderwingbrewing.com/event/c34streetbites-2/
LOCATION:Thunderwing Brewing\, 2419 Scioto Harper Drive\, Columbus\, OH\, 43204\, United States
CATEGORIES:Food Truck,Food Truck Schedule
ATTACH;FMTTYPE=image/jpeg:https://thunderwingbrewing.com/wp-content/uploads/2026/02/34-Centenario-Truck-Image.jpg
END:VEVENT
BEGIN:VEVENT
DTSTART;TZID=America/New_York:20260320T170000
DTEND;TZID=America/New_York:20260320T200000
DTSTAMP:20260421T192745
CREATED:20260303T132755Z
LAST-MODIFIED:20260303T132755Z
UID:2486-1774026000-1774036800@thunderwingbrewing.com
SUMMARY:Food Truck: The Pizza Rover & Euchre Tournament
DESCRIPTION:The Pizza Rover will be at the Taproom serving up slices and whole pies from 5:00 p.m. to 8:00 p.m.! \nOur monthly Euchre Tournament will kick off at 7:30 p.m. Come with your playing mate or be paired once here. It’s free to play\, with winners taking home a crowler of their choosing.
URL:https://thunderwingbrewing.com/event/pizzarover/
LOCATION:Thunderwing Brewing\, 2419 Scioto Harper Drive\, Columbus\, OH\, 43204\, United States
CATEGORIES:Food Truck,Food Truck Schedule,Internal Event
ATTACH;FMTTYPE=image/jpeg:https://thunderwingbrewing.com/wp-content/uploads/2026/01/pizza-rover-2.jpg
END:VEVENT
BEGIN:VEVENT
DTSTART;TZID=America/New_York:20260327T170000
DTEND;TZID=America/New_York:20260327T200000
DTSTAMP:20260421T192745
CREATED:20260321T140941Z
LAST-MODIFIED:20260321T140941Z
UID:2491-1774630800-1774641600@thunderwingbrewing.com
SUMMARY:Food Truck: C34 Street Food
DESCRIPTION:C34 Street Bites is a chef-owned\, scratch food truck serving Mexican-American fusion foods and will be at the Taproom from 5:00 p.m. to 8:00 p.m.
URL:https://thunderwingbrewing.com/event/c34streetfood/
LOCATION:Thunderwing Brewing\, 2419 Scioto Harper Drive\, Columbus\, OH\, 43204\, United States
CATEGORIES:Food Truck,Food Truck Schedule
ATTACH;FMTTYPE=image/jpeg:https://thunderwingbrewing.com/wp-content/uploads/2026/02/34-Centenario-Truck-Image.jpg
END:VEVENT
BEGIN:VEVENT
DTSTART;TZID=America/New_York:20260403T170000
DTEND;TZID=America/New_York:20260403T200000
DTSTAMP:20260421T192745
CREATED:20260324T183801Z
LAST-MODIFIED:20260324T183801Z
UID:2510-1775235600-1775246400@thunderwingbrewing.com
SUMMARY:Food Truck: Mr. Cheezy's Gourmet Mac Shak
DESCRIPTION:Mr. Cheezy’s Gourmet Mac Shak will be at the Taproom serving up decadent mac & cheese\, wicked wings\, and more!
URL:https://thunderwingbrewing.com/event/mrcheezys/
LOCATION:Thunderwing Brewing\, 2419 Scioto Harper Drive\, Columbus\, OH\, 43204\, United States
CATEGORIES:Food Truck,Food Truck Schedule
ATTACH;FMTTYPE=image/jpeg:https://thunderwingbrewing.com/wp-content/uploads/2026/03/Mr.-Cheezys-Gourmet-Mac-Shak.jpg
END:VEVENT
BEGIN:VEVENT
DTSTART;TZID=America/New_York:20260409T170000
DTEND;TZID=America/New_York:20260409T200000
DTSTAMP:20260421T192745
CREATED:20260324T184331Z
LAST-MODIFIED:20260324T184331Z
UID:2514-1775754000-1775764800@thunderwingbrewing.com
SUMMARY:Food Truck: C34 Street Food
DESCRIPTION:C34 Street Bites is a chef-owned\, scratch food truck serving Mexican-American fusion foods and will be at the Taproom from 5:00 p.m. to 8:00 p.m.
URL:https://thunderwingbrewing.com/event/c34/
LOCATION:Thunderwing Brewing\, 2419 Scioto Harper Drive\, Columbus\, OH\, 43204\, United States
CATEGORIES:Food Truck,Food Truck Schedule
ATTACH;FMTTYPE=image/jpeg:https://thunderwingbrewing.com/wp-content/uploads/2026/02/34-Centenario-Truck-Image.jpg
END:VEVENT
BEGIN:VEVENT
DTSTART;TZID=America/New_York:20260410T163000
DTEND;TZID=America/New_York:20260410T200000
DTSTAMP:20260421T192745
CREATED:20260324T184643Z
LAST-MODIFIED:20260324T184643Z
UID:2516-1775838600-1775851200@thunderwingbrewing.com
SUMMARY:Food Truck: Fetty's Street Food & Music Bingo with Queens Entertainment
DESCRIPTION:Fetty’s is one of our favorite food trucks\, serving delicious Thai\, Indian\, and South African street food!\nStop in for a few pints\, order a meal\, and stay for Music Bingo with Queens Entertainment beginning at 7:00 p.m.!
URL:https://thunderwingbrewing.com/event/fettysstreetfood/
LOCATION:Thunderwing Brewing\, 2419 Scioto Harper Drive\, Columbus\, OH\, 43204\, United States
CATEGORIES:Food Truck,Food Truck Schedule,Internal Event
ATTACH;FMTTYPE=image/jpeg:https://thunderwingbrewing.com/wp-content/uploads/2026/03/Fettys-Street-Food-Truck-Image-.jpg
END:VEVENT
BEGIN:VEVENT
DTSTART;TZID=America/New_York:20260417T170000
DTEND;TZID=America/New_York:20260417T200000
DTSTAMP:20260421T192745
CREATED:20260324T184900Z
LAST-MODIFIED:20260324T184900Z
UID:2520-1776445200-1776456000@thunderwingbrewing.com
SUMMARY:Food Truck: The Pizza Rover
DESCRIPTION:The Pizza Rover will be at the Taproom\, serving slices and full wood-fired pies that pair perfectly with a draft craft beer!
URL:https://thunderwingbrewing.com/event/thepizzarover-2/
LOCATION:Thunderwing Brewing\, 2419 Scioto Harper Drive\, Columbus\, OH\, 43204\, United States
CATEGORIES:Food Truck,Food Truck Schedule
ATTACH;FMTTYPE=image/jpeg:https://thunderwingbrewing.com/wp-content/uploads/2026/01/pizza-rover-2.jpg
END:VEVENT
BEGIN:VEVENT
DTSTART;TZID=America/New_York:20260424T170000
DTEND;TZID=America/New_York:20260424T200000
DTSTAMP:20260421T192745
CREATED:20260324T185104Z
LAST-MODIFIED:20260324T185256Z
UID:2523-1777050000-1777060800@thunderwingbrewing.com
SUMMARY:Food Truck: C34 Street Bites & Music Bingo with Queens Entertainment
DESCRIPTION:Chef-owned\, scratch food truck\, serving Mexican American fusion foods for all palates to enjoy from 5:00 p.m. to 8:00 p.m. Enjoy a meal out\, a few pints\, and Music Bingo with Queens Entertainment\, which starts at 7:00 p.m.!
URL:https://thunderwingbrewing.com/event/c34-2/
LOCATION:Thunderwing Brewing\, 2419 Scioto Harper Drive\, Columbus\, OH\, 43204\, United States
CATEGORIES:Food Truck,Food Truck Schedule,Internal Event
ATTACH;FMTTYPE=image/jpeg:https://thunderwingbrewing.com/wp-content/uploads/2026/02/34-Centenario-Truck-Image.jpg
END:VEVENT
END:VCALENDAR