BEGIN:VCALENDAR
VERSION:2.0
PRODID:-//ThunderWing Brewing - ECPv6.15.20//NONSGML v1.0//EN
CALSCALE:GREGORIAN
METHOD:PUBLISH
X-WR-CALNAME:ThunderWing Brewing
X-ORIGINAL-URL:https://thunderwingbrewing.com
X-WR-CALDESC:Events for ThunderWing Brewing
REFRESH-INTERVAL;VALUE=DURATION:PT1H
X-Robots-Tag:noindex
X-PUBLISHED-TTL:PT1H
BEGIN:VTIMEZONE
TZID:America/New_York
BEGIN:DAYLIGHT
TZOFFSETFROM:-0500
TZOFFSETTO:-0400
TZNAME:EDT
DTSTART:20250309T070000
END:DAYLIGHT
BEGIN:STANDARD
TZOFFSETFROM:-0400
TZOFFSETTO:-0500
TZNAME:EST
DTSTART:20251102T060000
END:STANDARD
BEGIN:DAYLIGHT
TZOFFSETFROM:-0500
TZOFFSETTO:-0400
TZNAME:EDT
DTSTART:20260308T070000
END:DAYLIGHT
BEGIN:STANDARD
TZOFFSETFROM:-0400
TZOFFSETTO:-0500
TZNAME:EST
DTSTART:20261101T060000
END:STANDARD
BEGIN:DAYLIGHT
TZOFFSETFROM:-0500
TZOFFSETTO:-0400
TZNAME:EDT
DTSTART:20270314T070000
END:DAYLIGHT
BEGIN:STANDARD
TZOFFSETFROM:-0400
TZOFFSETTO:-0500
TZNAME:EST
DTSTART:20271107T060000
END:STANDARD
END:VTIMEZONE
BEGIN:VEVENT
DTSTART;TZID=America/New_York:20260213T163000
DTEND;TZID=America/New_York:20260213T200000
DTSTAMP:20260422T035429
CREATED:20251110T235942Z
LAST-MODIFIED:20260203T084853Z
UID:2324-1771000200-1771012800@thunderwingbrewing.com
SUMMARY:Food Truck: Fetty's Street Food
DESCRIPTION:Big flavor meets flipper frenzy.\nFetty’s Street Food is back for their monthly visit from 4:30–8PM with their signature global fusion dishes that pair perfectly with a pint. Come early for dinner\, then stick around for our monthly pinball tournament at 7pm featuring prizes\, bragging rights\, and a whole lot of friendly competition!
URL:https://thunderwingbrewing.com/event/food-truck-fettys-street-food-23/
LOCATION:Thunderwing Brewing\, 2419 Scioto Harper Drive\, Columbus\, OH\, 43204\, United States
CATEGORIES:Food Truck Schedule
ATTACH;FMTTYPE=image/jpeg:https://thunderwingbrewing.com/wp-content/uploads/2024/01/Image-3.jpeg
END:VEVENT
END:VCALENDAR