BEGIN:VCALENDAR
VERSION:2.0
PRODID:-//ThunderWing Brewing - ECPv6.15.20//NONSGML v1.0//EN
CALSCALE:GREGORIAN
METHOD:PUBLISH
X-WR-CALNAME:ThunderWing Brewing
X-ORIGINAL-URL:https://thunderwingbrewing.com
X-WR-CALDESC:Events for ThunderWing Brewing
REFRESH-INTERVAL;VALUE=DURATION:PT1H
X-Robots-Tag:noindex
X-PUBLISHED-TTL:PT1H
BEGIN:VTIMEZONE
TZID:America/New_York
BEGIN:DAYLIGHT
TZOFFSETFROM:-0500
TZOFFSETTO:-0400
TZNAME:EDT
DTSTART:20240310T070000
END:DAYLIGHT
BEGIN:STANDARD
TZOFFSETFROM:-0400
TZOFFSETTO:-0500
TZNAME:EST
DTSTART:20241103T060000
END:STANDARD
BEGIN:DAYLIGHT
TZOFFSETFROM:-0500
TZOFFSETTO:-0400
TZNAME:EDT
DTSTART:20250309T070000
END:DAYLIGHT
BEGIN:STANDARD
TZOFFSETFROM:-0400
TZOFFSETTO:-0500
TZNAME:EST
DTSTART:20251102T060000
END:STANDARD
BEGIN:DAYLIGHT
TZOFFSETFROM:-0500
TZOFFSETTO:-0400
TZNAME:EDT
DTSTART:20260308T070000
END:DAYLIGHT
BEGIN:STANDARD
TZOFFSETFROM:-0400
TZOFFSETTO:-0500
TZNAME:EST
DTSTART:20261101T060000
END:STANDARD
END:VTIMEZONE
BEGIN:VEVENT
DTSTART;TZID=America/New_York:20251126T163000
DTEND;TZID=America/New_York:20251126T200000
DTSTAMP:20260421T160208
CREATED:20251124T120746Z
LAST-MODIFIED:20251124T120746Z
UID:2341-1764174600-1764187200@thunderwingbrewing.com
SUMMARY:Food Truck: Fetty's Street Food
DESCRIPTION:Pre-holiday comfort food\, perfected. \nFetty’s Street Food is joining us for Drinksgiving this Wednesday from 4:30–8 PM\, serving up their bold and delicious fusion dishes — the perfect pairing for a pint before the holiday madness begins. Whether you’re fueling up for Trivia Night or just hanging with friends\, Fetty’s has you covered with flavor that goes way beyond typical street fare!
URL:https://thunderwingbrewing.com/event/fettys-drinksgiving/
LOCATION:Thunderwing Brewing\, 2419 Scioto Harper Drive\, Columbus\, OH\, 43204\, United States
CATEGORIES:Food Truck Schedule
ATTACH;FMTTYPE=image/jpeg:https://thunderwingbrewing.com/wp-content/uploads/2024/01/Image-3.jpeg
END:VEVENT
END:VCALENDAR