BEGIN:VCALENDAR
VERSION:2.0
PRODID:-//ThunderWing Brewing - ECPv6.15.20//NONSGML v1.0//EN
CALSCALE:GREGORIAN
METHOD:PUBLISH
X-ORIGINAL-URL:https://thunderwingbrewing.com
X-WR-CALDESC:Events for ThunderWing Brewing
REFRESH-INTERVAL;VALUE=DURATION:PT1H
X-Robots-Tag:noindex
X-PUBLISHED-TTL:PT1H
BEGIN:VTIMEZONE
TZID:America/New_York
BEGIN:DAYLIGHT
TZOFFSETFROM:-0500
TZOFFSETTO:-0400
TZNAME:EDT
DTSTART:20240310T070000
END:DAYLIGHT
BEGIN:STANDARD
TZOFFSETFROM:-0400
TZOFFSETTO:-0500
TZNAME:EST
DTSTART:20241103T060000
END:STANDARD
BEGIN:DAYLIGHT
TZOFFSETFROM:-0500
TZOFFSETTO:-0400
TZNAME:EDT
DTSTART:20250309T070000
END:DAYLIGHT
BEGIN:STANDARD
TZOFFSETFROM:-0400
TZOFFSETTO:-0500
TZNAME:EST
DTSTART:20251102T060000
END:STANDARD
BEGIN:DAYLIGHT
TZOFFSETFROM:-0500
TZOFFSETTO:-0400
TZNAME:EDT
DTSTART:20260308T070000
END:DAYLIGHT
BEGIN:STANDARD
TZOFFSETFROM:-0400
TZOFFSETTO:-0500
TZNAME:EST
DTSTART:20261101T060000
END:STANDARD
END:VTIMEZONE
BEGIN:VEVENT
DTSTART;TZID=America/New_York:20250912T163000
DTEND;TZID=America/New_York:20250912T200000
DTSTAMP:20260423T020215
CREATED:20250902T164328Z
LAST-MODIFIED:20250902T165652Z
UID:2131-1757694600-1757707200@thunderwingbrewing.com
SUMMARY:Food Truck: Fetty's Street Food
DESCRIPTION:Flavor\, pints\, and pinball. \nFetty’s Street Food is pulling up from 4:30–8pm with creative street eats that never disappoint. Stick around for the Pinball Tournament at 7pm and make a night of it. \nFollow this link to check out the menu.
URL:https://thunderwingbrewing.com/event/food-truck-fettys-street-food-20/
LOCATION:Thunderwing Brewing\, 2419 Scioto Harper Drive\, Columbus\, OH\, 43204\, United States
CATEGORIES:Food Truck Schedule
ATTACH;FMTTYPE=image/jpeg:https://thunderwingbrewing.com/wp-content/uploads/2024/01/Image-3.jpeg
END:VEVENT
END:VCALENDAR