BEGIN:VCALENDAR
VERSION:2.0
PRODID:-//ThunderWing Brewing - ECPv6.15.20//NONSGML v1.0//EN
CALSCALE:GREGORIAN
METHOD:PUBLISH
X-WR-CALNAME:ThunderWing Brewing
X-ORIGINAL-URL:https://thunderwingbrewing.com
X-WR-CALDESC:Events for ThunderWing Brewing
REFRESH-INTERVAL;VALUE=DURATION:PT1H
X-Robots-Tag:noindex
X-PUBLISHED-TTL:PT1H
BEGIN:VTIMEZONE
TZID:America/New_York
BEGIN:DAYLIGHT
TZOFFSETFROM:-0500
TZOFFSETTO:-0400
TZNAME:EDT
DTSTART:20250309T070000
END:DAYLIGHT
BEGIN:STANDARD
TZOFFSETFROM:-0400
TZOFFSETTO:-0500
TZNAME:EST
DTSTART:20251102T060000
END:STANDARD
BEGIN:DAYLIGHT
TZOFFSETFROM:-0500
TZOFFSETTO:-0400
TZNAME:EDT
DTSTART:20260308T070000
END:DAYLIGHT
BEGIN:STANDARD
TZOFFSETFROM:-0400
TZOFFSETTO:-0500
TZNAME:EST
DTSTART:20261101T060000
END:STANDARD
BEGIN:DAYLIGHT
TZOFFSETFROM:-0500
TZOFFSETTO:-0400
TZNAME:EDT
DTSTART:20270314T070000
END:DAYLIGHT
BEGIN:STANDARD
TZOFFSETFROM:-0400
TZOFFSETTO:-0500
TZNAME:EST
DTSTART:20271107T060000
END:STANDARD
END:VTIMEZONE
BEGIN:VEVENT
DTSTART;TZID=America/New_York:20260422T183000
DTEND;TZID=America/New_York:20260422T203000
DTSTAMP:20260422T014327
CREATED:20260324T183028Z
LAST-MODIFIED:20260324T183028Z
UID:2503-1776882600-1776889800@thunderwingbrewing.com
SUMMARY:Sporcle Live Trivia
DESCRIPTION:Join us for Sporcle Live Trivia in our Taproom each Wednesday from 6:30 p.m. to 8:30 p.m! It’s free to play\, with two one-hour games available. Come with a team or play solo. The top winners of each game win $20 and $10 in electronic gift cards for future use.
URL:https://thunderwingbrewing.com/event/trivia4/
LOCATION:Thunderwing Brewing\, 2419 Scioto Harper Drive\, Columbus\, OH\, 43204\, United States
CATEGORIES:Internal Event
ATTACH;FMTTYPE=image/png:https://thunderwingbrewing.com/wp-content/uploads/2025/10/sporcle-at-TW_cropped.png
END:VEVENT
END:VCALENDAR